BEGIN:VCALENDAR
VERSION:1.0
PRODID:Open2CKalenderExportV11
BEGIN:VEVENT
DTSTAMP:20260415T131956Z
DTSTART:20260501T100000Z
DTEND:20260501T100000Z
CATEGORIES:Vereine
SUMMARY:Maibaumaufstellen
DESCRIPTION:
LOCATION:Marktplatz Kirchseeon
UID:bf2e2868179ae2347908365b3c03c2d1-3d0bfd49d02d71fa54f779a409f30690
PRIORITY:3
END:VEVENT
END:VCALENDAR
