BEGIN:VCALENDAR
VERSION:1.0
PRODID:Open2CKalenderExportV11
BEGIN:VEVENT
DTSTAMP:20260415T132242Z
DTSTART:20260519T190000Z
DTEND:20260519T190000Z
CATEGORIES:Vereine
SUMMARY:Maiandacht
DESCRIPTION: | Organisator   Seetaler Kirchseeon e.V.
LOCATION:St. Coloman Kirche, Kirchseeon-Dorf
UID:79020e4ea00af05ef79c6161c3671173-f1702dbe45fde647cff6b0b2bb35b740
PRIORITY:3
END:VEVENT
END:VCALENDAR
