BEGIN:VCALENDAR
VERSION:1.0
PRODID:Open2CKalenderExportV11
BEGIN:VEVENT
DTSTAMP:20260415T132733Z
DTSTART:20260516T100000Z
DTEND:20260516T100000Z
CATEGORIES:Vereine
SUMMARY:Fahrradtour durch den Ebersberger Forst
DESCRIPTION:Durch den Ebersberger Forst geht es über Anzing nach Parsdorf zu einer Biotopbesichtigung, anschließend zum Klimawald-Erlebnispfad, über Pöring zurück nach Kirchseeon. Strecke ca. 35 km, Dauer rund 5–6 Stunden inklusive Einkehr. 16. Mai, Treffpunkt 10.00 Uhr am Perchten\nunnen. |   | Organisator   Bund Naturschutz-OG Kirchseeon
LOCATION:
UID:6ccc2719dc306739d872dc8f48e3855b-07ca9fbd5508761072f7ea45d6aa11aa
PRIORITY:3
END:VEVENT
END:VCALENDAR
