BEGIN:VCALENDAR
VERSION:2.0
PRODID:< http://www.open2c.de/ >
METHOD:PUBLISH
X-PUBLISHED-TTL:PT12H
BEGIN:VEVENT
CREATED:20260415T131459Z
LAST-MODIFIED:20260415T131956Z
DTSTAMP:20260422T080817Z
DTSTART;VALUE=DATE:20260501
CATEGORIES:Vereine
SUMMARY:Maibaumaufstellen
LOCATION:Marktplatz Kirchseeon
UID:a68fc9eb7cc9447609549952de27a26e@9f116320a4e3660fb27753681c0a5f90
END:VEVENT
END:VCALENDAR