BEGIN:VCALENDAR
VERSION:2.0
PRODID:< http://www.open2c.de/ >
METHOD:PUBLISH
X-PUBLISHED-TTL:PT12H
BEGIN:VEVENT
CREATED:20260415T132033Z
LAST-MODIFIED:20260415T132242Z
ORGANIZER;CN="Seetaler Kirchseeon e.V."
DTSTAMP:20260422T080817Z
DTSTART;VALUE=DATE:20260519
CATEGORIES:Vereine
SUMMARY:Maiandacht
DESCRIPTION: Organisator Seetaler Kirchseeon e.V.
LOCATION:St. Coloman Kirche\, Kirchseeon-Dorf
UID:dd3d9306f401e9f3fe81daa1b63cde8e@9f116320a4e3660fb27753681c0a5f90
END:VEVENT
END:VCALENDAR