BEGIN:VCALENDAR
VERSION:2.0
PRODID:< http://www.open2c.de/ >
METHOD:PUBLISH
X-PUBLISHED-TTL:PT12H
BEGIN:VEVENT
CREATED:20260415T132328Z
LAST-MODIFIED:20260415T132733Z
ORGANIZER;CN="Bund Naturschutz-OG Kirchseeon"
DTSTAMP:20260422T080905Z
DTSTART;VALUE=DATE:20260516
CATEGORIES:Vereine
SUMMARY:Fahrradtour durch den Ebersberger Forst
DESCRIPTION:Durch den Ebersberger Forst geht es über Anzing nach Parsdorf 
	zu einer Biotopbesichtigung\, anschließend zum Klimawald-Erlebnispfad\, üb
	er Pöring zurück nach Kirchseeon. Strecke ca. 35 km\, Dauer rund 5–6 St
	unden inklusive Einkehr. 16. Mai\, Treffpunkt 10.00 Uhr am Perchtenbrunnen.
	   Organisator Bund Naturschutz-OG Kirchseeon
UID:ea6a6a209bb915d3f3e5e6e83ded63c9@9f116320a4e3660fb27753681c0a5f90
END:VEVENT
END:VCALENDAR